BEGIN:VCALENDAR
VERSION:2.0
PRODID:-//Kibby Creek Campground - ECPv6.15.20//NONSGML v1.0//EN
CALSCALE:GREGORIAN
METHOD:PUBLISH
X-ORIGINAL-URL:https://kibbycreekcampground.com
X-WR-CALDESC:Events for Kibby Creek Campground
REFRESH-INTERVAL;VALUE=DURATION:PT1H
X-Robots-Tag:noindex
X-PUBLISHED-TTL:PT1H
BEGIN:VTIMEZONE
TZID:America/Detroit
BEGIN:DAYLIGHT
TZOFFSETFROM:-0500
TZOFFSETTO:-0400
TZNAME:EDT
DTSTART:20220313T070000
END:DAYLIGHT
BEGIN:STANDARD
TZOFFSETFROM:-0400
TZOFFSETTO:-0500
TZNAME:EST
DTSTART:20221106T060000
END:STANDARD
BEGIN:DAYLIGHT
TZOFFSETFROM:-0500
TZOFFSETTO:-0400
TZNAME:EDT
DTSTART:20230312T070000
END:DAYLIGHT
BEGIN:STANDARD
TZOFFSETFROM:-0400
TZOFFSETTO:-0500
TZNAME:EST
DTSTART:20231105T060000
END:STANDARD
BEGIN:DAYLIGHT
TZOFFSETFROM:-0500
TZOFFSETTO:-0400
TZNAME:EDT
DTSTART:20240310T070000
END:DAYLIGHT
BEGIN:STANDARD
TZOFFSETFROM:-0400
TZOFFSETTO:-0500
TZNAME:EST
DTSTART:20241103T060000
END:STANDARD
END:VTIMEZONE
BEGIN:VEVENT
DTSTART;VALUE=DATE:20230710
DTEND;VALUE=DATE:20230717
DTSTAMP:20260423T161249
CREATED:20230208T140941Z
LAST-MODIFIED:20230208T140941Z
UID:4276-1688947200-1689551999@kibbycreekcampground.com
SUMMARY:Storybook Week
DESCRIPTION:The best of the best storybooks – at camp!
URL:https://kibbycreekcampground.com/event/storybook-week/
LOCATION:Kibby Creek Campground
CATEGORIES:Theme Week
END:VEVENT
BEGIN:VEVENT
DTSTART;VALUE=DATE:20230706
DTEND;VALUE=DATE:20230710
DTSTAMP:20260423T161249
CREATED:20230208T140811Z
LAST-MODIFIED:20230208T140811Z
UID:4274-1688601600-1688947199@kibbycreekcampground.com
SUMMARY:Kibby Rocks Weekend
DESCRIPTION:Yes\, Kibby Rocks\, but did you know there’s lots of fun to be had with ROCKS? Come see for yourself!
URL:https://kibbycreekcampground.com/event/kibby-rocks-weekend/
LOCATION:Kibby Creek Campground
CATEGORIES:Theme Week
END:VEVENT
BEGIN:VEVENT
DTSTART;VALUE=DATE:20230626
DTEND;VALUE=DATE:20230706
DTSTAMP:20260423T161249
CREATED:20230208T140707Z
LAST-MODIFIED:20230208T140707Z
UID:4272-1687737600-1688601599@kibbycreekcampground.com
SUMMARY:USA Week
DESCRIPTION:Join us as we celebrate our Independence Day! 4th of July is all about the good old U.S.A and we are ready to have fun!
URL:https://kibbycreekcampground.com/event/usa-week/
LOCATION:Kibby Creek Campground
CATEGORIES:Theme Week
END:VEVENT
BEGIN:VEVENT
DTSTART;TZID=America/Detroit:20230619T080000
DTEND;TZID=America/Detroit:20230625T170000
DTSTAMP:20260423T161249
CREATED:20230208T140535Z
LAST-MODIFIED:20230208T140535Z
UID:4270-1687161600-1687712400@kibbycreekcampground.com
SUMMARY:Midsummer Week
DESCRIPTION:This week\, we are celebrating the Summer Solstice! The longest day of the year! Expect lots of late-night fun!
URL:https://kibbycreekcampground.com/event/midsummer-week/
LOCATION:Kibby Creek Campground
CATEGORIES:Theme Week
END:VEVENT
BEGIN:VEVENT
DTSTART;VALUE=DATE:20230612
DTEND;VALUE=DATE:20230619
DTSTAMP:20260423T161249
CREATED:20230208T140401Z
LAST-MODIFIED:20230208T140401Z
UID:4268-1686528000-1687132799@kibbycreekcampground.com
SUMMARY:Space Week
DESCRIPTION:Kibby is a fantastic place for a campfire and some stargazing! Join us for Space Week and see for yourself!
URL:https://kibbycreekcampground.com/event/space-week/
LOCATION:Kibby Creek Campground
CATEGORIES:Theme Week
END:VEVENT
BEGIN:VEVENT
DTSTART;VALUE=DATE:20230605
DTEND;VALUE=DATE:20230612
DTSTAMP:20260423T161249
CREATED:20230207T195301Z
LAST-MODIFIED:20230207T195301Z
UID:4266-1685923200-1686527999@kibbycreekcampground.com
SUMMARY:That 70's Camp!
DESCRIPTION:Come celebrate 70’s week with us\, dressed in your seventies-best! Kibby Creek was built in 1972 and we love the 70’s!
URL:https://kibbycreekcampground.com/event/that-70s-camp/
LOCATION:Kibby Creek Campground
CATEGORIES:Theme Week
END:VEVENT
BEGIN:VEVENT
DTSTART;VALUE=DATE:20230601
DTEND;VALUE=DATE:20230605
DTSTAMP:20260423T161249
CREATED:20230207T195147Z
LAST-MODIFIED:20230207T195147Z
UID:4264-1685577600-1685923199@kibbycreekcampground.com
SUMMARY:Michigan Week (Local's Appreciation Weekend)
DESCRIPTION:Come celebrate Michigan with us! This week\, all campers from Mason\, Oceana or Lake counties receive a 50% discount – as a thanks for being a good ol’ local!
URL:https://kibbycreekcampground.com/event/michigan-week-locals-appreciation-weekend/
LOCATION:Kibby Creek Campground
CATEGORIES:Theme Week
END:VEVENT
BEGIN:VEVENT
DTSTART;VALUE=DATE:20230526
DTEND;VALUE=DATE:20230530
DTSTAMP:20260423T161249
CREATED:20230207T195007Z
LAST-MODIFIED:20230207T195007Z
UID:4262-1685059200-1685404799@kibbycreekcampground.com
SUMMARY:Back to Camp Weekend
DESCRIPTION:Celebrating Memorial Day and the kickoff to Summer!
URL:https://kibbycreekcampground.com/event/back-to-camp-weekend/
LOCATION:Kibby Creek Campground
CATEGORIES:Theme Week
END:VEVENT
BEGIN:VEVENT
DTSTART;VALUE=DATE:20230512
DTEND;VALUE=DATE:20230514
DTSTAMP:20260423T161249
CREATED:20230207T194626Z
LAST-MODIFIED:20230207T194626Z
UID:4248-1683849600-1684022399@kibbycreekcampground.com
SUMMARY:Celebrate MOM Weekend
DESCRIPTION:Come celebrate all moms with us!
URL:https://kibbycreekcampground.com/event/celebrate-mom-weekend/
LOCATION:Kibby Creek Campground
CATEGORIES:Theme Week
END:VEVENT
END:VCALENDAR