BEGIN:VCALENDAR
VERSION:2.0
PRODID:-//Kibby Creek Campground - ECPv6.15.20//NONSGML v1.0//EN
CALSCALE:GREGORIAN
METHOD:PUBLISH
X-WR-CALNAME:Kibby Creek Campground
X-ORIGINAL-URL:https://kibbycreekcampground.com
X-WR-CALDESC:Events for Kibby Creek Campground
REFRESH-INTERVAL;VALUE=DURATION:PT1H
X-Robots-Tag:noindex
X-PUBLISHED-TTL:PT1H
BEGIN:VTIMEZONE
TZID:America/Detroit
BEGIN:DAYLIGHT
TZOFFSETFROM:-0500
TZOFFSETTO:-0400
TZNAME:EDT
DTSTART:20220313T070000
END:DAYLIGHT
BEGIN:STANDARD
TZOFFSETFROM:-0400
TZOFFSETTO:-0500
TZNAME:EST
DTSTART:20221106T060000
END:STANDARD
BEGIN:DAYLIGHT
TZOFFSETFROM:-0500
TZOFFSETTO:-0400
TZNAME:EDT
DTSTART:20230312T070000
END:DAYLIGHT
BEGIN:STANDARD
TZOFFSETFROM:-0400
TZOFFSETTO:-0500
TZNAME:EST
DTSTART:20231105T060000
END:STANDARD
BEGIN:DAYLIGHT
TZOFFSETFROM:-0500
TZOFFSETTO:-0400
TZNAME:EDT
DTSTART:20240310T070000
END:DAYLIGHT
BEGIN:STANDARD
TZOFFSETFROM:-0400
TZOFFSETTO:-0500
TZNAME:EST
DTSTART:20241103T060000
END:STANDARD
BEGIN:DAYLIGHT
TZOFFSETFROM:-0500
TZOFFSETTO:-0400
TZNAME:EDT
DTSTART:20250309T070000
END:DAYLIGHT
BEGIN:STANDARD
TZOFFSETFROM:-0400
TZOFFSETTO:-0500
TZNAME:EST
DTSTART:20251102T060000
END:STANDARD
END:VTIMEZONE
BEGIN:VEVENT
DTSTART;VALUE=DATE:20240607
DTEND;VALUE=DATE:20240610
DTSTAMP:20260423T143551
CREATED:20240301T151555Z
LAST-MODIFIED:20240301T151555Z
UID:4858-1717718400-1717977599@kibbycreekcampground.com
SUMMARY:Michigan Week
DESCRIPTION:We love Michigan! This week we’ll have an extra specific Michigan theme on everything 🙂
URL:https://kibbycreekcampground.com/event/michigan-week/
END:VEVENT
BEGIN:VEVENT
DTSTART;VALUE=DATE:20240531
DTEND;VALUE=DATE:20240603
DTSTAMP:20260423T143551
CREATED:20240301T151448Z
LAST-MODIFIED:20240301T151448Z
UID:4856-1717113600-1717372799@kibbycreekcampground.com
SUMMARY:Rock Weekend
DESCRIPTION:This week rocks! Classic Rock will be blaring in The Barn and we’ll have some of our favorite activities like rock painting and finding hidden rocks for the chance of a treat!
URL:https://kibbycreekcampground.com/event/rock-weekend/
LOCATION:Kibby Creek Campground
END:VEVENT
BEGIN:VEVENT
DTSTART;VALUE=DATE:20231006
DTEND;VALUE=DATE:20231008
DTSTAMP:20260423T143551
CREATED:20230208T142154Z
LAST-MODIFIED:20230208T142154Z
UID:4296-1696550400-1696723199@kibbycreekcampground.com
SUMMARY:Harvest Weekend #2
DESCRIPTION:If you know\, you know\, if you don’t know – well\, you should find out.
URL:https://kibbycreekcampground.com/event/harvest-weekend-2/
LOCATION:Kibby Creek Campground
CATEGORIES:Harvest Weekend
END:VEVENT
BEGIN:VEVENT
DTSTART;VALUE=DATE:20230929
DTEND;VALUE=DATE:20231001
DTSTAMP:20260423T143551
CREATED:20230208T142116Z
LAST-MODIFIED:20230208T142116Z
UID:4294-1695945600-1696118399@kibbycreekcampground.com
SUMMARY:Harvest Weekend #1
DESCRIPTION:If you know\, you know\, if you don’t know – well\, you should find out.
URL:https://kibbycreekcampground.com/event/harvest-weekend-1/
LOCATION:Kibby Creek Campground
CATEGORIES:Harvest Weekend
END:VEVENT
BEGIN:VEVENT
DTSTART;VALUE=DATE:20230901
DTEND;VALUE=DATE:20230905
DTSTAMP:20260423T143551
CREATED:20230208T142010Z
LAST-MODIFIED:20230208T142010Z
UID:4292-1693526400-1693871999@kibbycreekcampground.com
SUMMARY:Best of Summer Weekend
DESCRIPTION:Yes\, it’s sad\, summer is coming to an end. But that doesn’t mean that we can’t fit a whole summer of fun into one weekend! LETS DO IT!
URL:https://kibbycreekcampground.com/event/best-of-summer-weekend/
LOCATION:Kibby Creek Campground
CATEGORIES:Theme Week
END:VEVENT
BEGIN:VEVENT
DTSTART;VALUE=DATE:20230821
DTEND;VALUE=DATE:20230828
DTSTAMP:20260423T143551
CREATED:20230208T141913Z
LAST-MODIFIED:20230208T141913Z
UID:4290-1692576000-1693180799@kibbycreekcampground.com
SUMMARY:At the Beach Week
DESCRIPTION:This week\, we’re bringing the beach to the campground! We’ll need everyone to bring a shovel and a bucket and we’ll get to work together!
URL:https://kibbycreekcampground.com/event/at-the-beach-week/
LOCATION:Kibby Creek Campground
CATEGORIES:Theme Week
END:VEVENT
BEGIN:VEVENT
DTSTART;VALUE=DATE:20230814
DTEND;VALUE=DATE:20230821
DTSTAMP:20260423T143551
CREATED:20230208T141820Z
LAST-MODIFIED:20230208T141820Z
UID:4288-1691971200-1692575999@kibbycreekcampground.com
SUMMARY:Camp Week
DESCRIPTION:Camp week at camp! For a week! It’ll be great!
URL:https://kibbycreekcampground.com/event/camp-week/
LOCATION:Kibby Creek Campground
CATEGORIES:Theme Week
END:VEVENT
BEGIN:VEVENT
DTSTART;TZID=America/Detroit:20230812T190000
DTEND;TZID=America/Detroit:20230812T203000
DTSTAMP:20260423T143551
CREATED:20230208T141724Z
LAST-MODIFIED:20230208T141724Z
UID:4286-1691866800-1691872200@kibbycreekcampground.com
SUMMARY:Magic Show
DESCRIPTION:Join us for a fun family-friendly magic show!
URL:https://kibbycreekcampground.com/event/magic-show/
LOCATION:Kibby Creek Campground
CATEGORIES:Show
END:VEVENT
BEGIN:VEVENT
DTSTART;VALUE=DATE:20230807
DTEND;VALUE=DATE:20230814
DTSTAMP:20260423T143551
CREATED:20230208T141555Z
LAST-MODIFIED:20230208T141555Z
UID:4284-1691366400-1691971199@kibbycreekcampground.com
SUMMARY:Mystery Week
DESCRIPTION:Is Mystery Week all about mysteries\, or is the week a mystery in itself? To answer this question you may just have to show up yourself to see!
URL:https://kibbycreekcampground.com/event/mystery-week/
LOCATION:Kibby Creek Campground
CATEGORIES:Theme Week
END:VEVENT
BEGIN:VEVENT
DTSTART;VALUE=DATE:20230731
DTEND;VALUE=DATE:20230807
DTSTAMP:20260423T143551
CREATED:20230208T141447Z
LAST-MODIFIED:20230208T141447Z
UID:4282-1690761600-1691366399@kibbycreekcampground.com
SUMMARY:Farm Week
DESCRIPTION:This week – every campsite will feature its own farm animal. Lounge around the campfire with a pig or a goat… (just kidding!). But\, seriously\, we love farms and farmers! And\, if you didn’t know\, they do know how to have fun on the farm…
URL:https://kibbycreekcampground.com/event/farm-week/
LOCATION:Kibby Creek Campground
CATEGORIES:Theme Week
END:VEVENT
BEGIN:VEVENT
DTSTART;VALUE=DATE:20230724
DTEND;VALUE=DATE:20230731
DTSTAMP:20260423T143551
CREATED:20230208T141246Z
LAST-MODIFIED:20230208T141246Z
UID:4280-1690156800-1690761599@kibbycreekcampground.com
SUMMARY:Christmas in July
DESCRIPTION:The best Christmas celebration\, outside of Christmas\, known to man. Where else can you indulge in a hot chocolate snowstorm or a peppermint milkshake while relaxing in the warm sun?
URL:https://kibbycreekcampground.com/event/christmas-in-july/
LOCATION:Kibby Creek Campground
CATEGORIES:Theme Week
END:VEVENT
BEGIN:VEVENT
DTSTART;VALUE=DATE:20230724
DTEND;VALUE=DATE:20230731
DTSTAMP:20260423T143551
CREATED:20230208T141044Z
LAST-MODIFIED:20230208T141044Z
UID:4278-1690156800-1690761599@kibbycreekcampground.com
SUMMARY:Luck O' the Irish
DESCRIPTION:This week\, everyone is Irish! Trust us – it’s best that way!
URL:https://kibbycreekcampground.com/event/luck-o-the-irish/
LOCATION:Kibby Creek Campground
CATEGORIES:Theme Week
END:VEVENT
BEGIN:VEVENT
DTSTART;VALUE=DATE:20230710
DTEND;VALUE=DATE:20230717
DTSTAMP:20260423T143551
CREATED:20230208T140941Z
LAST-MODIFIED:20230208T140941Z
UID:4276-1688947200-1689551999@kibbycreekcampground.com
SUMMARY:Storybook Week
DESCRIPTION:The best of the best storybooks – at camp!
URL:https://kibbycreekcampground.com/event/storybook-week/
LOCATION:Kibby Creek Campground
CATEGORIES:Theme Week
END:VEVENT
BEGIN:VEVENT
DTSTART;VALUE=DATE:20230706
DTEND;VALUE=DATE:20230710
DTSTAMP:20260423T143551
CREATED:20230208T140811Z
LAST-MODIFIED:20230208T140811Z
UID:4274-1688601600-1688947199@kibbycreekcampground.com
SUMMARY:Kibby Rocks Weekend
DESCRIPTION:Yes\, Kibby Rocks\, but did you know there’s lots of fun to be had with ROCKS? Come see for yourself!
URL:https://kibbycreekcampground.com/event/kibby-rocks-weekend/
LOCATION:Kibby Creek Campground
CATEGORIES:Theme Week
END:VEVENT
BEGIN:VEVENT
DTSTART;VALUE=DATE:20230626
DTEND;VALUE=DATE:20230706
DTSTAMP:20260423T143551
CREATED:20230208T140707Z
LAST-MODIFIED:20230208T140707Z
UID:4272-1687737600-1688601599@kibbycreekcampground.com
SUMMARY:USA Week
DESCRIPTION:Join us as we celebrate our Independence Day! 4th of July is all about the good old U.S.A and we are ready to have fun!
URL:https://kibbycreekcampground.com/event/usa-week/
LOCATION:Kibby Creek Campground
CATEGORIES:Theme Week
END:VEVENT
BEGIN:VEVENT
DTSTART;TZID=America/Detroit:20230619T080000
DTEND;TZID=America/Detroit:20230625T170000
DTSTAMP:20260423T143551
CREATED:20230208T140535Z
LAST-MODIFIED:20230208T140535Z
UID:4270-1687161600-1687712400@kibbycreekcampground.com
SUMMARY:Midsummer Week
DESCRIPTION:This week\, we are celebrating the Summer Solstice! The longest day of the year! Expect lots of late-night fun!
URL:https://kibbycreekcampground.com/event/midsummer-week/
LOCATION:Kibby Creek Campground
CATEGORIES:Theme Week
END:VEVENT
BEGIN:VEVENT
DTSTART;VALUE=DATE:20230612
DTEND;VALUE=DATE:20230619
DTSTAMP:20260423T143551
CREATED:20230208T140401Z
LAST-MODIFIED:20230208T140401Z
UID:4268-1686528000-1687132799@kibbycreekcampground.com
SUMMARY:Space Week
DESCRIPTION:Kibby is a fantastic place for a campfire and some stargazing! Join us for Space Week and see for yourself!
URL:https://kibbycreekcampground.com/event/space-week/
LOCATION:Kibby Creek Campground
CATEGORIES:Theme Week
END:VEVENT
BEGIN:VEVENT
DTSTART;VALUE=DATE:20230605
DTEND;VALUE=DATE:20230612
DTSTAMP:20260423T143551
CREATED:20230207T195301Z
LAST-MODIFIED:20230207T195301Z
UID:4266-1685923200-1686527999@kibbycreekcampground.com
SUMMARY:That 70's Camp!
DESCRIPTION:Come celebrate 70’s week with us\, dressed in your seventies-best! Kibby Creek was built in 1972 and we love the 70’s!
URL:https://kibbycreekcampground.com/event/that-70s-camp/
LOCATION:Kibby Creek Campground
CATEGORIES:Theme Week
END:VEVENT
BEGIN:VEVENT
DTSTART;VALUE=DATE:20230601
DTEND;VALUE=DATE:20230605
DTSTAMP:20260423T143551
CREATED:20230207T195147Z
LAST-MODIFIED:20230207T195147Z
UID:4264-1685577600-1685923199@kibbycreekcampground.com
SUMMARY:Michigan Week (Local's Appreciation Weekend)
DESCRIPTION:Come celebrate Michigan with us! This week\, all campers from Mason\, Oceana or Lake counties receive a 50% discount – as a thanks for being a good ol’ local!
URL:https://kibbycreekcampground.com/event/michigan-week-locals-appreciation-weekend/
LOCATION:Kibby Creek Campground
CATEGORIES:Theme Week
END:VEVENT
BEGIN:VEVENT
DTSTART;VALUE=DATE:20230526
DTEND;VALUE=DATE:20230530
DTSTAMP:20260423T143551
CREATED:20230207T195007Z
LAST-MODIFIED:20230207T195007Z
UID:4262-1685059200-1685404799@kibbycreekcampground.com
SUMMARY:Back to Camp Weekend
DESCRIPTION:Celebrating Memorial Day and the kickoff to Summer!
URL:https://kibbycreekcampground.com/event/back-to-camp-weekend/
LOCATION:Kibby Creek Campground
CATEGORIES:Theme Week
END:VEVENT
BEGIN:VEVENT
DTSTART;VALUE=DATE:20230512
DTEND;VALUE=DATE:20230514
DTSTAMP:20260423T143551
CREATED:20230207T194626Z
LAST-MODIFIED:20230207T194626Z
UID:4248-1683849600-1684022399@kibbycreekcampground.com
SUMMARY:Celebrate MOM Weekend
DESCRIPTION:Come celebrate all moms with us!
URL:https://kibbycreekcampground.com/event/celebrate-mom-weekend/
LOCATION:Kibby Creek Campground
CATEGORIES:Theme Week
END:VEVENT
END:VCALENDAR