BEGIN:VCALENDAR
VERSION:2.0
PRODID:-//Kibby Creek Campground - ECPv6.15.20//NONSGML v1.0//EN
CALSCALE:GREGORIAN
METHOD:PUBLISH
X-ORIGINAL-URL:https://kibbycreekcampground.com
X-WR-CALDESC:Events for Kibby Creek Campground
REFRESH-INTERVAL;VALUE=DURATION:PT1H
X-Robots-Tag:noindex
X-PUBLISHED-TTL:PT1H
BEGIN:VTIMEZONE
TZID:America/Detroit
BEGIN:DAYLIGHT
TZOFFSETFROM:-0500
TZOFFSETTO:-0400
TZNAME:EDT
DTSTART:20230312T070000
END:DAYLIGHT
BEGIN:STANDARD
TZOFFSETFROM:-0400
TZOFFSETTO:-0500
TZNAME:EST
DTSTART:20231105T060000
END:STANDARD
BEGIN:DAYLIGHT
TZOFFSETFROM:-0500
TZOFFSETTO:-0400
TZNAME:EDT
DTSTART:20240310T070000
END:DAYLIGHT
BEGIN:STANDARD
TZOFFSETFROM:-0400
TZOFFSETTO:-0500
TZNAME:EST
DTSTART:20241103T060000
END:STANDARD
BEGIN:DAYLIGHT
TZOFFSETFROM:-0500
TZOFFSETTO:-0400
TZNAME:EDT
DTSTART:20250309T070000
END:DAYLIGHT
BEGIN:STANDARD
TZOFFSETFROM:-0400
TZOFFSETTO:-0500
TZNAME:EST
DTSTART:20251102T060000
END:STANDARD
BEGIN:DAYLIGHT
TZOFFSETFROM:-0500
TZOFFSETTO:-0400
TZNAME:EDT
DTSTART:20260308T070000
END:DAYLIGHT
BEGIN:STANDARD
TZOFFSETFROM:-0400
TZOFFSETTO:-0500
TZNAME:EST
DTSTART:20261101T060000
END:STANDARD
END:VTIMEZONE
BEGIN:VEVENT
DTSTART;TZID=America/Detroit:20251010T080000
DTEND;TZID=America/Detroit:20251012T120000
DTSTAMP:20260423T095106
CREATED:20250516T150508Z
LAST-MODIFIED:20250516T150508Z
UID:5565-1760083200-1760270400@kibbycreekcampground.com
SUMMARY:Simply Fall
DESCRIPTION:
URL:https://kibbycreekcampground.com/event/simply-fall-2/
LOCATION:Kibby Creek Campground
END:VEVENT
BEGIN:VEVENT
DTSTART;TZID=America/Detroit:20251002T080000
DTEND;TZID=America/Detroit:20251005T120000
DTSTAMP:20260423T095106
CREATED:20250516T150430Z
LAST-MODIFIED:20250516T150430Z
UID:5563-1759392000-1759665600@kibbycreekcampground.com
SUMMARY:Harvest Weekend #3
DESCRIPTION:
URL:https://kibbycreekcampground.com/event/harvest-weekend-3-2/
LOCATION:Kibby Creek Campground
CATEGORIES:Harvest Weekend
END:VEVENT
BEGIN:VEVENT
DTSTART;TZID=America/Detroit:20250925T080000
DTEND;TZID=America/Detroit:20250928T120000
DTSTAMP:20260423T095106
CREATED:20250516T150347Z
LAST-MODIFIED:20250516T150347Z
UID:5561-1758787200-1759060800@kibbycreekcampground.com
SUMMARY:Harvest Weekend #2
DESCRIPTION:
URL:https://kibbycreekcampground.com/event/harvest-weekend-2-3/
LOCATION:Kibby Creek Campground
CATEGORIES:Harvest Weekend
END:VEVENT
BEGIN:VEVENT
DTSTART;TZID=America/Detroit:20250918T080000
DTEND;TZID=America/Detroit:20250921T120000
DTSTAMP:20260423T095106
CREATED:20250516T150310Z
LAST-MODIFIED:20250516T150310Z
UID:5559-1758182400-1758456000@kibbycreekcampground.com
SUMMARY:Harvest Weekend #1
DESCRIPTION:
URL:https://kibbycreekcampground.com/event/harvest-weekend-1-3/
LOCATION:Kibby Creek Campground
CATEGORIES:Harvest Weekend
END:VEVENT
BEGIN:VEVENT
DTSTART;TZID=America/Detroit:20250912T080000
DTEND;TZID=America/Detroit:20250914T120000
DTSTAMP:20260423T095106
CREATED:20250516T150229Z
LAST-MODIFIED:20250516T150229Z
UID:5557-1757664000-1757851200@kibbycreekcampground.com
SUMMARY:Simply Fall
DESCRIPTION:
URL:https://kibbycreekcampground.com/event/simply-fall/
LOCATION:Kibby Creek Campground
END:VEVENT
BEGIN:VEVENT
DTSTART;TZID=America/Detroit:20250827T080000
DTEND;TZID=America/Detroit:20250901T120000
DTSTAMP:20260423T095106
CREATED:20250516T150153Z
LAST-MODIFIED:20250516T150153Z
UID:5555-1756281600-1756728000@kibbycreekcampground.com
SUMMARY:Best of Summer
DESCRIPTION:
URL:https://kibbycreekcampground.com/event/best-of-summer-2/
LOCATION:Kibby Creek Campground
END:VEVENT
BEGIN:VEVENT
DTSTART;TZID=America/Detroit:20250818T080000
DTEND;TZID=America/Detroit:20250824T120000
DTSTAMP:20260423T095106
CREATED:20250516T150119Z
LAST-MODIFIED:20250516T150119Z
UID:5553-1755504000-1756036800@kibbycreekcampground.com
SUMMARY:Hawaiian Week
DESCRIPTION:
URL:https://kibbycreekcampground.com/event/hawaiian-week/
LOCATION:Kibby Creek Campground
END:VEVENT
BEGIN:VEVENT
DTSTART;TZID=America/Detroit:20250811T080000
DTEND;TZID=America/Detroit:20250817T120000
DTSTAMP:20260423T095106
CREATED:20250516T150040Z
LAST-MODIFIED:20250516T150040Z
UID:5551-1754899200-1755432000@kibbycreekcampground.com
SUMMARY:Mystery Week
DESCRIPTION:
URL:https://kibbycreekcampground.com/event/mystery-week-3/
LOCATION:Kibby Creek Campground
END:VEVENT
BEGIN:VEVENT
DTSTART;TZID=America/Detroit:20250804T080000
DTEND;TZID=America/Detroit:20250810T120000
DTSTAMP:20260423T095106
CREATED:20250516T145957Z
LAST-MODIFIED:20250516T145957Z
UID:5549-1754294400-1754827200@kibbycreekcampground.com
SUMMARY:Camp Week
DESCRIPTION:
URL:https://kibbycreekcampground.com/event/camp-week-3/
LOCATION:Kibby Creek Campground
END:VEVENT
BEGIN:VEVENT
DTSTART;TZID=America/Detroit:20250728T080000
DTEND;TZID=America/Detroit:20250803T120000
DTSTAMP:20260423T095106
CREATED:20250516T145922Z
LAST-MODIFIED:20250516T145922Z
UID:5547-1753689600-1754222400@kibbycreekcampground.com
SUMMARY:Wild West Week
DESCRIPTION:
URL:https://kibbycreekcampground.com/event/wild-west-week/
LOCATION:Kibby Creek Campground
END:VEVENT
BEGIN:VEVENT
DTSTART;TZID=America/Detroit:20250721T080000
DTEND;TZID=America/Detroit:20250727T120000
DTSTAMP:20260423T095106
CREATED:20250516T145828Z
LAST-MODIFIED:20250516T145828Z
UID:5545-1753084800-1753617600@kibbycreekcampground.com
SUMMARY:Christmas in July
DESCRIPTION:
URL:https://kibbycreekcampground.com/event/christmas-in-july-2/
LOCATION:Kibby Creek Campground
END:VEVENT
BEGIN:VEVENT
DTSTART;TZID=America/Detroit:20250714T080000
DTEND;TZID=America/Detroit:20250720T120000
DTSTAMP:20260423T095106
CREATED:20250516T145758Z
LAST-MODIFIED:20250516T145758Z
UID:5543-1752480000-1753012800@kibbycreekcampground.com
SUMMARY:Princesses & Superheroes
DESCRIPTION:
URL:https://kibbycreekcampground.com/event/princesses-superheroes-2/
LOCATION:Kibby Creek Campground
END:VEVENT
BEGIN:VEVENT
DTSTART;TZID=America/Detroit:20250707T080000
DTEND;TZID=America/Detroit:20250713T120000
DTSTAMP:20260423T095106
CREATED:20250516T145712Z
LAST-MODIFIED:20250516T145712Z
UID:5540-1751875200-1752408000@kibbycreekcampground.com
SUMMARY:80's Week
DESCRIPTION:
URL:https://kibbycreekcampground.com/event/80s-week/
LOCATION:Kibby Creek Campground
END:VEVENT
BEGIN:VEVENT
DTSTART;TZID=America/Detroit:20250630T080000
DTEND;TZID=America/Detroit:20250706T120000
DTSTAMP:20260423T095106
CREATED:20250516T145622Z
LAST-MODIFIED:20250516T145622Z
UID:5538-1751270400-1751803200@kibbycreekcampground.com
SUMMARY:Red\, White & Blue
DESCRIPTION:
URL:https://kibbycreekcampground.com/event/red-white-blue-2/
LOCATION:Kibby Creek Campground
END:VEVENT
BEGIN:VEVENT
DTSTART;TZID=America/Detroit:20250623T080000
DTEND;TZID=America/Detroit:20250629T120000
DTSTAMP:20260423T095106
CREATED:20250516T145545Z
LAST-MODIFIED:20250516T145545Z
UID:5536-1750665600-1751198400@kibbycreekcampground.com
SUMMARY:Heritage Week
DESCRIPTION:
URL:https://kibbycreekcampground.com/event/heritage-week-2/
LOCATION:Kibby Creek Campground
END:VEVENT
BEGIN:VEVENT
DTSTART;TZID=America/Detroit:20250616T080000
DTEND;TZID=America/Detroit:20250622T120000
DTSTAMP:20260423T095106
CREATED:20250516T145514Z
LAST-MODIFIED:20250516T145514Z
UID:5534-1750060800-1750593600@kibbycreekcampground.com
SUMMARY:Bigfoot Week
DESCRIPTION:
URL:https://kibbycreekcampground.com/event/bigfoot-week/
LOCATION:Kibby Creek Campground
END:VEVENT
BEGIN:VEVENT
DTSTART;TZID=America/Detroit:20250609T080000
DTEND;TZID=America/Detroit:20250615T120000
DTSTAMP:20260423T095106
CREATED:20250516T145440Z
LAST-MODIFIED:20250516T145440Z
UID:5532-1749456000-1749988800@kibbycreekcampground.com
SUMMARY:Celebrate Dad Week
DESCRIPTION:
URL:https://kibbycreekcampground.com/event/celebrate-dad-week/
LOCATION:Kibby Creek Campground
END:VEVENT
BEGIN:VEVENT
DTSTART;TZID=America/Detroit:20250602T080000
DTEND;TZID=America/Detroit:20250608T120000
DTSTAMP:20260423T095106
CREATED:20250516T145358Z
LAST-MODIFIED:20250516T145358Z
UID:5530-1748851200-1749384000@kibbycreekcampground.com
SUMMARY:Michigan Week
DESCRIPTION:
URL:https://kibbycreekcampground.com/event/michigan-week-2/
LOCATION:Kibby Creek Campground
END:VEVENT
BEGIN:VEVENT
DTSTART;TZID=America/Detroit:20250529T080000
DTEND;TZID=America/Detroit:20250601T120000
DTSTAMP:20260423T095106
CREATED:20250516T145309Z
LAST-MODIFIED:20250516T145309Z
UID:5528-1748505600-1748779200@kibbycreekcampground.com
SUMMARY:Local's Appreciation & Rock
DESCRIPTION:
URL:https://kibbycreekcampground.com/event/locals-appreciation-rock/
END:VEVENT
BEGIN:VEVENT
DTSTART;TZID=America/Detroit:20250522T080000
DTEND;TZID=America/Detroit:20250526T120000
DTSTAMP:20260423T095106
CREATED:20250516T145204Z
LAST-MODIFIED:20250516T145204Z
UID:5526-1747900800-1748260800@kibbycreekcampground.com
SUMMARY:Back to Camp Weekend
DESCRIPTION:
URL:https://kibbycreekcampground.com/event/back-to-camp-weekend-2/
LOCATION:Kibby Creek Campground
END:VEVENT
BEGIN:VEVENT
DTSTART;TZID=America/Detroit:20241004T140000
DTEND;TZID=America/Detroit:20241006T120000
DTSTAMP:20260423T095106
CREATED:20240115T182035Z
LAST-MODIFIED:20240115T182035Z
UID:4811-1728050400-1728216000@kibbycreekcampground.com
SUMMARY:Harvest Weekend #3
DESCRIPTION:
URL:https://kibbycreekcampground.com/event/harvest-weekend-3/
LOCATION:Kibby Creek Campground
CATEGORIES:Harvest Weekend
END:VEVENT
BEGIN:VEVENT
DTSTART;TZID=America/Detroit:20240927T140000
DTEND;TZID=America/Detroit:20240929T120000
DTSTAMP:20260423T095106
CREATED:20240115T181948Z
LAST-MODIFIED:20240115T181948Z
UID:4809-1727445600-1727611200@kibbycreekcampground.com
SUMMARY:Harvest Weekend #2
DESCRIPTION:
URL:https://kibbycreekcampground.com/event/harvest-weekend-2-2/
LOCATION:Kibby Creek Campground
CATEGORIES:Harvest Weekend
END:VEVENT
BEGIN:VEVENT
DTSTART;TZID=America/Detroit:20240920T140000
DTEND;TZID=America/Detroit:20240922T120000
DTSTAMP:20260423T095106
CREATED:20240115T181851Z
LAST-MODIFIED:20240115T181851Z
UID:4807-1726840800-1727006400@kibbycreekcampground.com
SUMMARY:Harvest Weekend #1
DESCRIPTION:
URL:https://kibbycreekcampground.com/event/harvest-weekend-1-2/
LOCATION:Kibby Creek Campground
CATEGORIES:Harvest Weekend
END:VEVENT
BEGIN:VEVENT
DTSTART;VALUE=DATE:20240829
DTEND;VALUE=DATE:20240830
DTSTAMP:20260423T095106
CREATED:20240301T154834Z
LAST-MODIFIED:20240301T154834Z
UID:4882-1724889600-1724975999@kibbycreekcampground.com
SUMMARY:Best of Summer
DESCRIPTION:Best of Summer Week!
URL:https://kibbycreekcampground.com/event/best-of-summer/
LOCATION:Kibby Creek Campground
END:VEVENT
BEGIN:VEVENT
DTSTART;VALUE=DATE:20240819
DTEND;VALUE=DATE:20240826
DTSTAMP:20260423T095106
CREATED:20240301T154724Z
LAST-MODIFIED:20240301T154724Z
UID:4880-1724025600-1724630399@kibbycreekcampground.com
SUMMARY:Beach Week
DESCRIPTION:Beach Week!
URL:https://kibbycreekcampground.com/event/beach-week/
END:VEVENT
BEGIN:VEVENT
DTSTART;VALUE=DATE:20240812
DTEND;VALUE=DATE:20240819
DTSTAMP:20260423T095106
CREATED:20240301T154635Z
LAST-MODIFIED:20240301T154635Z
UID:4878-1723420800-1724025599@kibbycreekcampground.com
SUMMARY:Mystery Week
DESCRIPTION:Yay\, we love mystery! This week is highlighted by the visit of a magician on August 17th!
URL:https://kibbycreekcampground.com/event/mystery-week-2/
LOCATION:Kibby Creek Campground
END:VEVENT
BEGIN:VEVENT
DTSTART;VALUE=DATE:20240805
DTEND;VALUE=DATE:20240812
DTSTAMP:20260423T095106
CREATED:20240301T154526Z
LAST-MODIFIED:20240301T154526Z
UID:4876-1722816000-1723420799@kibbycreekcampground.com
SUMMARY:90's Week
DESCRIPTION:Ah\, the 90’s. What a wonderful time it was! This week we’ll celebrate with music\, nostalgia and who knows what else!
URL:https://kibbycreekcampground.com/event/90s-week/
END:VEVENT
BEGIN:VEVENT
DTSTART;VALUE=DATE:20240729
DTEND;VALUE=DATE:20240805
DTSTAMP:20260423T095106
CREATED:20240301T153011Z
LAST-MODIFIED:20240301T153011Z
UID:4874-1722211200-1722815999@kibbycreekcampground.com
SUMMARY:Farm Week
DESCRIPTION:We wouldn’t be where we are without farmers! This week\, we’ll thank them and enjoy some of their beautiful bounties.
URL:https://kibbycreekcampground.com/event/farm-week-2/
LOCATION:Kibby Creek Campground
END:VEVENT
BEGIN:VEVENT
DTSTART;VALUE=DATE:20240722
DTEND;VALUE=DATE:20240729
DTSTAMP:20260423T095106
CREATED:20240301T152822Z
LAST-MODIFIED:20240301T152822Z
UID:4872-1721606400-1722211199@kibbycreekcampground.com
SUMMARY:Christmas in July Week
DESCRIPTION:This week is for all those people that think that Christmas once a year is just not cutting it. Site Decorations\, Christmas treats and perhaps even a visit by Santa himself…
URL:https://kibbycreekcampground.com/event/christmas-in-july-week-2/
END:VEVENT
BEGIN:VEVENT
DTSTART;VALUE=DATE:20240722
DTEND;VALUE=DATE:20240729
DTSTAMP:20260423T095106
CREATED:20240115T181747Z
LAST-MODIFIED:20240115T181747Z
UID:4805-1721606400-1722211199@kibbycreekcampground.com
SUMMARY:Christmas in July Week
DESCRIPTION:
URL:https://kibbycreekcampground.com/event/christmas-in-july-week/
LOCATION:Kibby Creek Campground
CATEGORIES:Theme Week
END:VEVENT
END:VCALENDAR